BEGIN:VCALENDAR
VERSION:2.0
PRODID:-//Piscina SPA - Club Providencia - ECPv5.11.0//NONSGML v1.0//EN
CALSCALE:GREGORIAN
METHOD:PUBLISH
X-WR-CALNAME:Piscina SPA - Club Providencia
X-ORIGINAL-URL:https://piscinaspa.clubprovidencia.cl
X-WR-CALDESC:Eventos para Piscina SPA - Club Providencia
BEGIN:VTIMEZONE
TZID:America/Halifax
BEGIN:DAYLIGHT
TZOFFSETFROM:-0400
TZOFFSETTO:-0300
TZNAME:ADT
DTSTART:20240310T060000
END:DAYLIGHT
BEGIN:STANDARD
TZOFFSETFROM:-0300
TZOFFSETTO:-0400
TZNAME:AST
DTSTART:20241103T050000
END:STANDARD
END:VTIMEZONE
BEGIN:VEVENT
DTSTART;TZID=America/Halifax:20240427T153000
DTEND;TZID=America/Halifax:20240427T183000
DTSTAMP:20260425T121450
CREATED:20240404T145036Z
LAST-MODIFIED:20240404T151635Z
UID:2044079-1714231800-1714242600@piscinaspa.clubprovidencia.cl
SUMMARY:Piscina Recreativa SPA - 27 de Abril
DESCRIPTION:PISCINA RECREATIVA SPA\nEn el siguiente módulo de compra deberás seleccionar el día para el cual requieres entradas y completar el proceso de compra. \n \n\n\nIngresa tu RUT de Socio de Club Providencia o Tarjeta Vecino para acceder a Precios Especiales.\nNOTA: La base de datos de Tarjeta Vecino está actualizada al 1 de diciembre. Si el descuento no es reflejado y desea validar su tarjeta vecino escriba a clubprovidencia@clubprovidencia.cl indicando su RUT para realizar la validación en el Sistema.
URL:https://piscinaspa.clubprovidencia.cl/evento/piscina-recreativa-spa-27-de-abril/
CATEGORIES:Acceso Piscina
END:VEVENT
END:VCALENDAR