BEGIN:VCALENDAR
VERSION:2.0
PRODID:-//Piscina SPA - Club Providencia - ECPv5.11.0//NONSGML v1.0//EN
CALSCALE:GREGORIAN
METHOD:PUBLISH
X-WR-CALNAME:Piscina SPA - Club Providencia
X-ORIGINAL-URL:https://piscinaspa.clubprovidencia.cl
X-WR-CALDESC:Eventos para Piscina SPA - Club Providencia
BEGIN:VTIMEZONE
TZID:America/Halifax
BEGIN:DAYLIGHT
TZOFFSETFROM:-0400
TZOFFSETTO:-0300
TZNAME:ADT
DTSTART:20230312T060000
END:DAYLIGHT
BEGIN:STANDARD
TZOFFSETFROM:-0300
TZOFFSETTO:-0400
TZNAME:AST
DTSTART:20231105T050000
END:STANDARD
END:VTIMEZONE
BEGIN:VEVENT
DTSTART;TZID=America/Halifax:20231101T153000
DTEND;TZID=America/Halifax:20231101T183000
DTSTAMP:20260425T200324
CREATED:20231006T134156Z
LAST-MODIFIED:20231010T145959Z
UID:2042728-1698852600-1698863400@piscinaspa.clubprovidencia.cl
SUMMARY:Piscina Recreativa SPA - 01 de Noviembre
DESCRIPTION:Ingresa tu RUT de Socio de Club Providencia o Tarjeta Vecino para acceder a Precios Especiales.\nNOTA: La base de datos de Tarjeta Vecino está actualizada al 1 de diciembre. Si el descuento no es reflejado y desea validar su tarjeta vecino escriba a clubprovidencia@clubprovidencia.cl indicando su RUT para realizar la validación en el Sistema.
URL:https://piscinaspa.clubprovidencia.cl/evento/piscina-recreativa-spa-01-de-noviembre/
CATEGORIES:Acceso Piscina
ATTACH;FMTTYPE=image/jpeg:https://piscinaspa.clubprovidencia.cl/wp-content/uploads/2023/10/ppiscinaspa-7.jpeg
END:VEVENT
BEGIN:VEVENT
DTSTART;TZID=America/Halifax:20231104T153000
DTEND;TZID=America/Halifax:20231104T183000
DTSTAMP:20260425T200324
CREATED:20231006T134158Z
LAST-MODIFIED:20231010T150003Z
UID:2042729-1699111800-1699122600@piscinaspa.clubprovidencia.cl
SUMMARY:Piscina Recreativa SPA - 04 de Noviembre
DESCRIPTION:Ingresa tu RUT de Socio de Club Providencia o Tarjeta Vecino para acceder a Precios Especiales.\nNOTA: La base de datos de Tarjeta Vecino está actualizada al 1 de diciembre. Si el descuento no es reflejado y desea validar su tarjeta vecino escriba a clubprovidencia@clubprovidencia.cl indicando su RUT para realizar la validación en el Sistema.
URL:https://piscinaspa.clubprovidencia.cl/evento/piscina-recreativa-spa-04-de-noviembre/
CATEGORIES:Acceso Piscina
ATTACH;FMTTYPE=image/jpeg:https://piscinaspa.clubprovidencia.cl/wp-content/uploads/2023/10/ppiscinaspa-8.jpeg
END:VEVENT
BEGIN:VEVENT
DTSTART;TZID=America/Halifax:20231111T153000
DTEND;TZID=America/Halifax:20231111T183000
DTSTAMP:20260425T200324
CREATED:20231006T134204Z
LAST-MODIFIED:20231010T150006Z
UID:2042731-1699716600-1699727400@piscinaspa.clubprovidencia.cl
SUMMARY:Piscina Recreativa SPA - 11 de Noviembre
DESCRIPTION:Ingresa tu RUT de Socio de Club Providencia o Tarjeta Vecino para acceder a Precios Especiales.\nNOTA: La base de datos de Tarjeta Vecino está actualizada al 1 de diciembre. Si el descuento no es reflejado y desea validar su tarjeta vecino escriba a clubprovidencia@clubprovidencia.cl indicando su RUT para realizar la validación en el Sistema.
URL:https://piscinaspa.clubprovidencia.cl/evento/piscina-recreativa-spa-11-de-noviembre/
CATEGORIES:Acceso Piscina
ATTACH;FMTTYPE=image/jpeg:https://piscinaspa.clubprovidencia.cl/wp-content/uploads/2023/10/ppiscinaspa-10.jpeg
END:VEVENT
BEGIN:VEVENT
DTSTART;TZID=America/Halifax:20231118T153000
DTEND;TZID=America/Halifax:20231118T183000
DTSTAMP:20260425T200324
CREATED:20231006T134207Z
LAST-MODIFIED:20231010T150009Z
UID:2042733-1700321400-1700332200@piscinaspa.clubprovidencia.cl
SUMMARY:Piscina Recreativa SPA - 18 de Noviembre
DESCRIPTION:Ingresa tu RUT de Socio de Club Providencia o Tarjeta Vecino para acceder a Precios Especiales.\nNOTA: La base de datos de Tarjeta Vecino está actualizada al 1 de diciembre. Si el descuento no es reflejado y desea validar su tarjeta vecino escriba a clubprovidencia@clubprovidencia.cl indicando su RUT para realizar la validación en el Sistema.
URL:https://piscinaspa.clubprovidencia.cl/evento/piscina-recreativa-spa-18-de-noviembre/
CATEGORIES:Acceso Piscina
ATTACH;FMTTYPE=image/jpeg:https://piscinaspa.clubprovidencia.cl/wp-content/uploads/2023/10/ppiscinaspa-12.jpeg
END:VEVENT
BEGIN:VEVENT
DTSTART;TZID=America/Halifax:20231125T153000
DTEND;TZID=America/Halifax:20231125T183000
DTSTAMP:20260425T200324
CREATED:20231006T134211Z
LAST-MODIFIED:20231011T144959Z
UID:2042735-1700926200-1700937000@piscinaspa.clubprovidencia.cl
SUMMARY:Piscina Recreativa SPA - 25 de Noviembre
DESCRIPTION:Ingresa tu RUT de Socio de Club Providencia o Tarjeta Vecino para acceder a Precios Especiales.\nNOTA: La base de datos de Tarjeta Vecino está actualizada al 1 de diciembre. Si el descuento no es reflejado y desea validar su tarjeta vecino escriba a clubprovidencia@clubprovidencia.cl indicando su RUT para realizar la validación en el Sistema.
URL:https://piscinaspa.clubprovidencia.cl/evento/piscina-recreativa-spa-25-de-noviembre/
CATEGORIES:Acceso Piscina
ATTACH;FMTTYPE=image/jpeg:https://piscinaspa.clubprovidencia.cl/wp-content/uploads/2023/10/ppiscinaspa-14.jpeg
END:VEVENT
END:VCALENDAR