BEGIN:VCALENDAR
VERSION:2.0
PRODID:-//Piscina SPA - Club Providencia - ECPv5.11.0//NONSGML v1.0//EN
CALSCALE:GREGORIAN
METHOD:PUBLISH
X-WR-CALNAME:Piscina SPA - Club Providencia
X-ORIGINAL-URL:https://piscinaspa.clubprovidencia.cl
X-WR-CALDESC:Eventos para Piscina SPA - Club Providencia
BEGIN:VTIMEZONE
TZID:America/Halifax
BEGIN:DAYLIGHT
TZOFFSETFROM:-0400
TZOFFSETTO:-0300
TZNAME:ADT
DTSTART:20230312T060000
END:DAYLIGHT
BEGIN:STANDARD
TZOFFSETFROM:-0300
TZOFFSETTO:-0400
TZNAME:AST
DTSTART:20231105T050000
END:STANDARD
END:VTIMEZONE
BEGIN:VEVENT
DTSTART;TZID=America/Halifax:20231014T153000
DTEND;TZID=America/Halifax:20231014T183000
DTSTAMP:20260425T213809
CREATED:20231005T183045Z
LAST-MODIFIED:20231010T145940Z
UID:2042677-1697297400-1697308200@piscinaspa.clubprovidencia.cl
SUMMARY:Piscina Recreativa SPA - 14 de Octubre
DESCRIPTION:Ingresa tu RUT de Socio de Club Providencia o Tarjeta Vecino para acceder a Precios Especiales.\nNOTA: La base de datos de Tarjeta Vecino está actualizada al 1 de diciembre. Si el descuento no es reflejado y desea validar su tarjeta vecino escriba a clubprovidencia@clubprovidencia.cl indicando su RUT para realizar la validación en el Sistema.
URL:https://piscinaspa.clubprovidencia.cl/evento/piscina-recreativa-spa-14-de-octubre/
CATEGORIES:Acceso Piscina
ATTACH;FMTTYPE=image/jpeg:https://piscinaspa.clubprovidencia.cl/wp-content/uploads/2023/10/ppiscinaspa.jpeg
END:VEVENT
BEGIN:VEVENT
DTSTART;TZID=America/Halifax:20231021T153000
DTEND;TZID=America/Halifax:20231021T183000
DTSTAMP:20260425T213809
CREATED:20231006T125346Z
LAST-MODIFIED:20231010T145945Z
UID:2042697-1697902200-1697913000@piscinaspa.clubprovidencia.cl
SUMMARY:Piscina Recreativa SPA - 21 de Octubre
DESCRIPTION:Ingresa tu RUT de Socio de Club Providencia o Tarjeta Vecino para acceder a Precios Especiales.\nNOTA: La base de datos de Tarjeta Vecino está actualizada al 1 de diciembre. Si el descuento no es reflejado y desea validar su tarjeta vecino escriba a clubprovidencia@clubprovidencia.cl indicando su RUT para realizar la validación en el Sistema.
URL:https://piscinaspa.clubprovidencia.cl/evento/piscina-recreativa-spa-21-de-octubre/
CATEGORIES:Acceso Piscina
ATTACH;FMTTYPE=image/jpeg:https://piscinaspa.clubprovidencia.cl/wp-content/uploads/2023/10/ppiscinaspa-2.jpeg
END:VEVENT
BEGIN:VEVENT
DTSTART;TZID=America/Halifax:20231027T153000
DTEND;TZID=America/Halifax:20231027T183000
DTSTAMP:20260425T213809
CREATED:20231006T125351Z
LAST-MODIFIED:20231010T145950Z
UID:2042699-1698420600-1698431400@piscinaspa.clubprovidencia.cl
SUMMARY:Piscina Recreativa SPA - 27 de Octubre
DESCRIPTION:Ingresa tu RUT de Socio de Club Providencia o Tarjeta Vecino para acceder a Precios Especiales.\nNOTA: La base de datos de Tarjeta Vecino está actualizada al 1 de diciembre. Si el descuento no es reflejado y desea validar su tarjeta vecino escriba a clubprovidencia@clubprovidencia.cl indicando su RUT para realizar la validación en el Sistema.
URL:https://piscinaspa.clubprovidencia.cl/evento/piscina-recreativa-spa-27-de-octubre/
CATEGORIES:Acceso Piscina
ATTACH;FMTTYPE=image/jpeg:https://piscinaspa.clubprovidencia.cl/wp-content/uploads/2023/10/ppiscinaspa-4.jpeg
END:VEVENT
BEGIN:VEVENT
DTSTART;TZID=America/Halifax:20231028T153000
DTEND;TZID=America/Halifax:20231028T183000
DTSTAMP:20260425T213809
CREATED:20231006T125352Z
LAST-MODIFIED:20231010T145955Z
UID:2042700-1698507000-1698517800@piscinaspa.clubprovidencia.cl
SUMMARY:Piscina Recreativa SPA - 28 de Octubre
DESCRIPTION:Ingresa tu RUT de Socio de Club Providencia o Tarjeta Vecino para acceder a Precios Especiales.\nNOTA: La base de datos de Tarjeta Vecino está actualizada al 1 de diciembre. Si el descuento no es reflejado y desea validar su tarjeta vecino escriba a clubprovidencia@clubprovidencia.cl indicando su RUT para realizar la validación en el Sistema.
URL:https://piscinaspa.clubprovidencia.cl/evento/piscina-recreativa-spa-28-de-octubre/
CATEGORIES:Acceso Piscina
ATTACH;FMTTYPE=image/jpeg:https://piscinaspa.clubprovidencia.cl/wp-content/uploads/2023/10/ppiscinaspa-5.jpeg
END:VEVENT
END:VCALENDAR